BEGIN:VCALENDAR
VERSION:2.0
PRODID:-//Cultural Carwan - ECPv6.8.0//NONSGML v1.0//EN
CALSCALE:GREGORIAN
METHOD:PUBLISH
X-WR-CALNAME:Cultural Carwan
X-ORIGINAL-URL:https://culturalcarwan.com
X-WR-CALDESC:Events for Cultural Carwan
REFRESH-INTERVAL;VALUE=DURATION:PT1H
X-Robots-Tag:noindex
X-PUBLISHED-TTL:PT1H
BEGIN:VTIMEZONE
TZID:UTC
BEGIN:STANDARD
TZOFFSETFROM:+0000
TZOFFSETTO:+0000
TZNAME:UTC
DTSTART:20230101T000000
END:STANDARD
END:VTIMEZONE
BEGIN:VEVENT
DTSTART;VALUE=DATE:20231125
DTEND;VALUE=DATE:20231126
DTSTAMP:20260420T193731
CREATED:20241031T102531Z
LAST-MODIFIED:20241031T102531Z
UID:2706-1700870400-1700956799@culturalcarwan.com
SUMMARY:Urdu Festival 2023
DESCRIPTION:The Urdu Festival 2023 was a vibrant celebration of Urdu language\, poetry\, and culture\, bringing together enthusiasts from all backgrounds. Featuring mesmerizing poetry readings\, live art\, music performances\, and interactive sessions\, the festival highlighted the timeless beauty of Urdu. This memorable gathering not only honored tradition but also fostered new appreciation and connections within the community\, making it a truly unforgettable event. \n\nView Our Photos
URL:https://culturalcarwan.com/event/urdu-festival-2023/
CATEGORIES:Cultural Festivals
ATTACH;FMTTYPE=image/webp:https://culturalcarwan.com/wp-content/uploads/2024/10/Urdu-Festival-2023.webp
ORGANIZER;CN="Syed Sarosh Asif":MAILTO:info@culturalcarwan.com
END:VEVENT
END:VCALENDAR